BEGIN:VCALENDAR
VERSION:2.0
CREATED:20230125T221216Z
PRODID:-//Liberty Media Corporation/Equisolve Calendar v1.0//EN
METHOD:PUBLISH
BEGIN:VEVENT
UID:0d5e262b5f4457359ff7d474a8f1e321
DTSTAMP:20260421T214450Z
DTSTART:20230301T150000Z
DTEND:20230301T160000Z
SUMMARY:Q4 2022 Liberty Media Corp Earnings Conference Call
DESCRIPTION:Q4 2022 Liberty Media Corp Earnings Conference Call\n\nDate: Mar 1\, 2023 10:00 am ET
END:VEVENT
END:VCALENDAR
