BEGIN:VCALENDAR
VERSION:2.0
CREATED:20260306T133851Z
PRODID:-//Liberty Media Corporation/Equisolve Calendar v1.0//EN
METHOD:PUBLISH
BEGIN:VEVENT
UID:0ee632ced3f0fe064da1a09d130c2cf0
DTSTAMP:20260422T151812Z
DTSTART:20260511T174500Z
DTEND:20260511T184500Z
SUMMARY:2026 Virtual Annual Meeting of Stockholders
DESCRIPTION:2026 Virtual Annual Meeting of Stockholders\n\nDate: May 11\, 2026 11:45 am MT\n\nWebcast: http://www.virtualshareholdermeeting.com/LMC2026
END:VEVENT
END:VCALENDAR
