BEGIN:VCALENDAR
VERSION:2.0
CREATED:20260420T202324Z
PRODID:-//Liberty Media Corporation/Equisolve Calendar v1.0//EN
METHOD:PUBLISH
BEGIN:VEVENT
UID:9c87cdd1098a30ab245e338be690fa38
DTSTAMP:20260421T105910Z
DTSTART:20260507T140000Z
DTEND:20260507T150000Z
SUMMARY:Q1 2026 Liberty Media Corp Earnings Conference Call
DESCRIPTION:Q1 2026 Liberty Media Corp Earnings Conference Call\n\nDate: May 7\, 2026 10:00 am ET\n\nWebcast: https://event.choruscall.com/mediaframe/webcast.html?webcastid=1HTqT6N9
END:VEVENT
END:VCALENDAR
